BEGIN:VCALENDAR
VERSION:2.0
PRODID:-//Capital Implants - ECPv6.15.20//NONSGML v1.0//EN
CALSCALE:GREGORIAN
METHOD:PUBLISH
X-ORIGINAL-URL:https://capitalimplants.com.ar
X-WR-CALDESC:Eventos para Capital Implants
REFRESH-INTERVAL;VALUE=DURATION:PT1H
X-Robots-Tag:noindex
X-PUBLISHED-TTL:PT1H
BEGIN:VTIMEZONE
TZID:America/Argentina/Buenos_Aires
BEGIN:STANDARD
TZOFFSETFROM:-0300
TZOFFSETTO:-0300
TZNAME:-03
DTSTART:20190101T000000
END:STANDARD
END:VTIMEZONE
BEGIN:VEVENT
DTSTART;TZID=America/Argentina/Buenos_Aires:20220421T110000
DTEND;TZID=America/Argentina/Buenos_Aires:20220421T120500
DTSTAMP:20260423T130533
CREATED:20220419T144000Z
LAST-MODIFIED:20220419T145015Z
UID:2139-1650538800-1650542700@capitalimplants.com.ar
SUMMARY:Ezisurg Webinar Series: Gestión de la efectividad y el riesgo de la Cirugía Bariátrica
DESCRIPTION:Los invitamos al Webinar de cirugía bariátrica\, donde el Dr. Ezequiel Fernández junto al Dr. Luciano Deluca\, disertarán sobre su experiencia en la utilización de las suturas Ezisurg Medical\, representando a la Argentina.  \nMás información: https://capitalimplants.com.ar/novedades/ezisurg-medical-3/ \n 
URL:https://capitalimplants.com.ar/evento/ezisurg-webinar-series-gestion-de-la-efectividad-y-el-riesgo-de-la-cirugia-bariatrica/
END:VEVENT
BEGIN:VEVENT
DTSTART;VALUE=DATE:20201027
DTEND;VALUE=DATE:20201031
DTSTAMP:20260423T130533
CREATED:20200303T135457Z
LAST-MODIFIED:20200303T135457Z
UID:1534-1603756800-1604102399@capitalimplants.com.ar
SUMMARY:91º Congreso Argentino de Cirugía en CABA
DESCRIPTION:El 91º Congreso Argentino de Cirugía tendrá lugar en Buenos Aires entre el 27 y el 30 de octubre de 2020. \nCuando los organizadores publiquen el programa lo compartiremos aquí.
URL:https://capitalimplants.com.ar/evento/91o-congreso-argentino-de-cirugia-en-caba/
CATEGORIES:Congresos de sociedades médicas
END:VEVENT
BEGIN:VEVENT
DTSTART;VALUE=DATE:20200923
DTEND;VALUE=DATE:20200926
DTSTAMP:20260423T130533
CREATED:20200303T135459Z
LAST-MODIFIED:20200303T135459Z
UID:1525-1600819200-1601078399@capitalimplants.com.ar
SUMMARY:Congreso Argentino de Gastroenterología y Endoscopía Digestiva – GASTRO en Mar del Plata
DESCRIPTION:El Congreso Argentino de Gastroenterología y Endoscopía Digestiva – GASTRO se realizará en Mar del Plata. \nCuando se conozca el programa lo publicaremos aquí. \n 
URL:https://capitalimplants.com.ar/evento/congreso-argentino-de-gastroenterologia-y-endoscopia-digestiva-gastro-en-mar-del-plata/
LOCATION:NH Gran Hotel Provincial\, Bv. Marítimo Patricio Peralta Ramos 2502\, Mar del Plata\, Buenos Aires\, B7600\, Argentina
CATEGORIES:Congresos de sociedades médicas
END:VEVENT
BEGIN:VEVENT
DTSTART;VALUE=DATE:20200701
DTEND;VALUE=DATE:20200705
DTSTAMP:20260423T130533
CREATED:20200303T135500Z
LAST-MODIFIED:20200303T135500Z
UID:1521-1593561600-1593907199@capitalimplants.com.ar
SUMMARY:13º Congreso de la Asociación Latinoamericana de Tórax en CABA
DESCRIPTION:El evento ofrecerá como actividad académica cursos pre congreso\, mini-simposios y propuestas didácticas de los 17 departamentos de ALAT. También presentará simposios conjuntos con entidades pares\, trabajos libres\, conferencias magistrales y actividades de la industria farmacéutica. \nComo en los eventos anteriores se desarrollará el programa en conjunto con los máximos exponentes de las sociedades respiratorias hermanas ERS\, ATS\, APRS\, SEPAR y Chest. Del mismo modo\, estarán los líderes y representantes de las organizaciones científicas de la salud respiratoria de las naciones de Latinoamérica y otras internacionales como GOLD\, GINA y PVRI.
URL:https://capitalimplants.com.ar/evento/13o-congreso-de-la-asociacion-latinoamericana-de-torax-en-caba/
LOCATION:Hilton Buenos Aires\, Hilton Buenos Aires\, Macacha Güemes 351\, C1106 BKG\, \, Argentina\, Ciudad Autónoma de Buenos Aires\, Ciudad Autónoma de Buenos Aires\, C1106 BKG\, Argentina
CATEGORIES:Congresos de sociedades médicas
END:VEVENT
BEGIN:VEVENT
DTSTART;VALUE=DATE:20200514
DTEND;VALUE=DATE:20200516
DTSTAMP:20260423T130533
CREATED:20200303T135501Z
LAST-MODIFIED:20200303T135501Z
UID:1516-1589414400-1589587199@capitalimplants.com.ar
SUMMARY:XII Curso Internacional de Otoño AGA-SAGE
DESCRIPTION:El XII Curso Internacional de Otoño AGA-SAGE abordará enfermedades esofágicas\, patologías gástricas\, enfermedad celíaca\, enfermedades inflamatorias intestinales\, cáncer colorrectal y enfermedad diverticular del colon. También incorpora un workshop de endoscopía digestiva. \nLink al programa: https://sage.org.ar/wp-content/uploads/2020/02/programa_Oton%CC%83o_2020.pdf \n 
URL:https://capitalimplants.com.ar/evento/xii-curso-internacional-de-otono-aga-sage/
LOCATION:Universidad Católica Argentina\, Av. Alicia Moreau de Justo 1600\, Ciudad Autónoma de Buenos Aires\, Ciudad Autónoma de Buenos Aires\, C1107AFF\, Argentina
CATEGORIES:Simposios y Jornadas
END:VEVENT
BEGIN:VEVENT
DTSTART;VALUE=DATE:20200507
DTEND;VALUE=DATE:20200510
DTSTAMP:20260423T130533
CREATED:20200303T160121Z
LAST-MODIFIED:20200303T160121Z
UID:1543-1588809600-1589068799@capitalimplants.com.ar
SUMMARY:XIV Congreso Internacional de Cirugía Bariátrica y Metabólica en Mendoza
DESCRIPTION:Se llevará a cabo del 7 al 9 de mayo en Mendoza\, Argentina. \nOrientado a todos los integrantes del equipo quirúrgico e interdisciplinario: cirujanos\, instrumentadores quirúrgicos\, anestesiólogos\, médicos clínicos\, endocrinólogos\, nutricionistas\, psicólogos\, psiquiatras\, entrenadores físicos\, cirujanos plásticos y coordinadores de equipos interdisciplinarios. \nCon la participación de las figuras más destacas en el tema de Cirugía Bariátrica y Metabólica de nuestro continente\, al igual que con la disertaciones de profesores invitados de otras partes del mundo.
URL:https://capitalimplants.com.ar/evento/xiv-congreso-internacional-de-cirugia-bariatrica-y-metabolica-en-mendoza/
LOCATION:Hotel Intercontinental\, Mendoza\, Mendoza\, Argentina
ATTACH;FMTTYPE=image/png:https://capitalimplants.com.ar/wp-content/uploads/2020/03/img1.png
END:VEVENT
BEGIN:VEVENT
DTSTART;VALUE=DATE:20200505
DTEND;VALUE=DATE:20200508
DTSTAMP:20260423T130533
CREATED:20200303T135502Z
LAST-MODIFIED:20200303T135502Z
UID:1512-1588636800-1588895999@capitalimplants.com.ar
SUMMARY:50º Congreso Argentino de Cirugía Plástica en Buenos Aires
DESCRIPTION:Es el mayor evento científico que organiza la Sociedad Argentina de Cirugía Plástica Estética y Reparadora. Participarán distinguidos profesores extranjeros de altísimo nivel científico\, compartiendo experiencias con los mejores cirujanos plásticos argentinos y Capital Implants estará presente.
URL:https://capitalimplants.com.ar/evento/50o-congreso-argentino-de-cirugia-plastica-en-buenos-aires/
LOCATION:Alvear Icon Hotel\, Aimé Painé 1130\, Puerto Madero\, Buenos Aires\, CABA\, Argentina
CATEGORIES:Congresos de sociedades médicas
END:VEVENT
BEGIN:VEVENT
DTSTART;VALUE=DATE:20200406
DTEND;VALUE=DATE:20200409
DTSTAMP:20260423T130533
CREATED:20200303T135504Z
LAST-MODIFIED:20200303T135504Z
UID:1498-1586131200-1586390399@capitalimplants.com.ar
SUMMARY:Jornadas de Otoño de la Asociación Argentina de Cirugía en Puerto Madryn
DESCRIPTION:Jornadas de Otoño de la Asociación Argentina de Cirugía en Puerto Madryn. \nCapital Implants estará allí para presentar a la comunidad médica las novedosas suturas Ezisurg Medical\, las mallas Cousin Biotech y otros productos de interés para los asistentes. \nAuspician las III Jornadas de Cirugía de Chubut\, XXXIII Congreso Argentino de Residentes de Cirugía General\, Jornada Regional Sur de SACIL de Cirugía Ginecológica Miniinvasiva\, Jornadas de Instrumentadores Quirúrgicos.
URL:https://capitalimplants.com.ar/evento/jornadas-de-otono-en-puerto-madryn/
LOCATION:Hotel Rayentray\, Boulevard Brown 2889\, Puerto Madryn\, Chubut\, 9120\, Argentina
CATEGORIES:Congresos de sociedades médicas
END:VEVENT
BEGIN:VEVENT
DTSTART;TZID=America/Argentina/Buenos_Aires:20200331T080000
DTEND;TZID=America/Argentina/Buenos_Aires:20200331T140000
DTSTAMP:20260423T130533
CREATED:20200303T135505Z
LAST-MODIFIED:20200303T135505Z
UID:1530-1585641600-1585663200@capitalimplants.com.ar
SUMMARY:VIII Simposio sobre Cáncer de Colon en CABA
DESCRIPTION:Esta actividad se desarrollará durante una sola jornada y admite la solicitud de becas. \nTEMARIO PRELIMINAR\n• Estrategias y barreras de accesibilidad al Screening de cáncer Colorrectal.\n• Experiencia Nacional y Latinoamericana de Screening de cáncer colorrectal.\n• Tratamiento endoscópico de cáncer colorrectal.\n• Lo mejor de Congreso Mundial de endoscopía sobre el cáncer colorrectal.\n• Vigilancia de pólipos colónicos.\n• Genética y cáncer colorrectal.\n• Calidad en Screening de cáncer colorrectal. \nPresidente: Dr. Luis Caro.\nAutoridades Fundación: Dr. Luis Caro y Dr. Cecilio Cerisoli.\nSecretarios Simposio: Dr. Ricardo Figueredo y Dra. Sandra Canseco. \ninfo@fundaciongedyt.org.ar
URL:https://capitalimplants.com.ar/evento/viii-simposio-sobre-cancer-de-colon-en-caba/
LOCATION:Paseo La Plaza. Sala Pablo Picasso.\, Av. Corrientes 1660\, Ciudad Autónoma de Buenos Aires\, Ciudad Autónoma de Buenos Aires\, Argentina
CATEGORIES:Simposios y Jornadas
END:VEVENT
BEGIN:VEVENT
DTSTART;VALUE=DATE:20200325
DTEND;VALUE=DATE:20200328
DTSTAMP:20260423T130533
CREATED:20200303T135506Z
LAST-MODIFIED:20200303T135506Z
UID:1507-1585094400-1585353599@capitalimplants.com.ar
SUMMARY:4º Congreso de Cirugía Bariátrica y Metabólica en Tucumán
DESCRIPTION:En San Miguel de Tucumán se llevará a cabo el 4º Congreso Argentino de Cirugía Bariátrica y Metabólica organizado por la Sociedad Argentina de la Cirugía de la Obesidad. Capital Implants estará allí para presentar a la comunidad médica las novedosas suturas Ezisurg Medical\, las mallas Cousin Biotech y otros productos de interés. \nSi Ud. piensa asistir\, por favor indíquelo en nuestra página de contacto. De ese modo podemos convenir un momento para una presentación personalizada de nuestra gama de productos y herramientas.
URL:https://capitalimplants.com.ar/evento/4o-congreso-de-cirugia-bariatrica-y-metabolica-en-tucuman/
LOCATION:Sheraton Tucumán Hotel\, Av. Soldati y Haití\, San Miguel de Tucumán\, Tucumán\, 4000\, Argentina
CATEGORIES:Congresos de sociedades médicas
ORGANIZER;CN="Sociedad Argentina de Cirug%C3%ADa de la Obesidad%2C Enfermedad Metab%C3%B3lica y Otras Relacionadas con la Obesidad":MAILTO:info@sacobariatrica.org
END:VEVENT
END:VCALENDAR